BEGIN:VCALENDAR
VERSION:2.0
PRODID:-//ChamberMaster//Event Calendar 2.0//EN
METHOD:PUBLISH
X-PUBLISHED-TTL:P3D
REFRESH-INTERVAL:P3D
CALSCALE:GREGORIAN
BEGIN:VEVENT
DTSTART:20200402T160000Z
DTEND:20200402T173000Z
X-MICROSOFT-CDO-ALLDAYEVENT:FALSE
SUMMARY:General Luncheon Meeting
DESCRIPTION:Join us for our General Luncheon Meeting at the Outback in the Merrick Mall. \n\nOur guest speaker is Tami Racaniello from DeStress for Success. Learn 5 tools and techniques to manage stress for more productivity and to lower the risk of stress-related illness.
X-ALT-DESC;FMTTYPE=text/html:<div style="text-align: center\;"><span style="font-size:22px\;"><span style="font-family: verdana\; text-align: center\; background-color: rgb(255\, 255\, 255)\;">Join us for our General Luncheon Meeting at the Outback in the Merrick Mall.&nbsp\;<br />\nOur guest speaker is Tami Racaniello from DeStress for Success. Learn 5 tools and techniques to manage stress for more productivity and to lower the risk of stress-related illness.</span></span></div>\n
LOCATION:Outback Steakhouse Merrick Mall\, Merrick
UID:e.3513.125
SEQUENCE:3
DTSTAMP:20260423T085724Z
URL:https://business.merrickchamber.org/events/details/general-luncheon-meeting-125
END:VEVENT

END:VCALENDAR
